BEGIN:VCALENDAR
VERSION:2.0
PRODID:-//SFV Schoppenteich e.V.//Veranstaltungskalender//EN
CALSCALE:GREGORIAN
URL:https://www.schoppenteich.de/termine.php
BEGIN:VEVENT
UID:SFV_2026-05-02
ORGANIZER;CN=SFV Schoppenteich e.V.:MAILTO:kontakt@schoppenteich.de
LOCATION:Saale (Fischlehrpfad)
SUMMARY:Anangeln
DESCRIPTION:Anangeln | weitere Infos auf https://www.schoppenteich.de
DTSTART:20260502T110000Z
DTEND:20260502T120000Z
DTSTAMP:20260422T141320Z
SEQUENCE:1
BEGIN:VALARM
TRIGGER:-PT24H
ACTION:DISPLAY
DESCRIPTION:Reminder
END:VALARM
END:VEVENT
END:VCALENDAR
