BEGIN:VCALENDAR
VERSION:2.0
PRODID:-//SFV Schoppenteich e.V.//Veranstaltungskalender//EN
CALSCALE:GREGORIAN
URL:https://www.schoppenteich.de/termine.php
BEGIN:VEVENT
UID:SFV_2026-10-17
ORGANIZER;CN=SFV Schoppenteich e.V.:MAILTO:kontakt@schoppenteich.de
LOCATION:Schoppenteich
SUMMARY:Arbeitseinsatz
DESCRIPTION:Arbeitseinsatz | weitere Infos auf https://www.schoppenteich.de
DTSTART:20261017T060000Z
DTEND:20261017T070000Z
DTSTAMP:20260422T141138Z
SEQUENCE:1
BEGIN:VALARM
TRIGGER:-PT24H
ACTION:DISPLAY
DESCRIPTION:Reminder
END:VALARM
END:VEVENT
END:VCALENDAR
