BEGIN:VCALENDAR
VERSION:2.0
PRODID:-//SFV Schoppenteich e.V.//Veranstaltungskalender//EN
CALSCALE:GREGORIAN
URL:https://www.schoppenteich.de/termine.php
BEGIN:VEVENT
UID:SFV_2026-11-27
ORGANIZER;CN=SFV Schoppenteich e.V.:MAILTO:kontakt@schoppenteich.de
LOCATION:Vereinsraum
SUMMARY:Stammtisch
DESCRIPTION:Stammtisch | weitere Infos auf https://www.schoppenteich.de
DTSTART:20261127T180000Z
DTEND:20261127T190000Z
DTSTAMP:20260422T140858Z
SEQUENCE:1
BEGIN:VALARM
TRIGGER:-PT24H
ACTION:DISPLAY
DESCRIPTION:Reminder
END:VALARM
END:VEVENT
END:VCALENDAR
